BEGIN:VCALENDAR
VERSION:2.0
PRODID:-//Arabian Horse Association of Qld Inc - ECPv5.4.0//NONSGML v1.0//EN
CALSCALE:GREGORIAN
METHOD:PUBLISH
X-WR-CALNAME:Arabian Horse Association of Qld Inc
X-ORIGINAL-URL:https://www.ahaq.asn.au
X-WR-CALDESC:Events for Arabian Horse Association of Qld Inc
BEGIN:VTIMEZONE
TZID:Australia/Melbourne
BEGIN:STANDARD
TZOFFSETFROM:+1100
TZOFFSETTO:+1000
TZNAME:AEST
DTSTART:20210403T160000
END:STANDARD
BEGIN:DAYLIGHT
TZOFFSETFROM:+1000
TZOFFSETTO:+1100
TZNAME:AEDT
DTSTART:20211002T160000
END:DAYLIGHT
END:VTIMEZONE
BEGIN:VEVENT
DTSTART;TZID=Australia/Melbourne:20210522T080000
DTEND;TZID=Australia/Melbourne:20210522T170000
DTSTAMP:20210226T145820
CREATED:20210222T080556Z
LAST-MODIFIED:20210222T080556Z
UID:90-1621670400-1621702800@www.ahaq.asn.au
SUMMARY:2021 Autumn Classic
DESCRIPTION:An A class event featuring halter & saddle classes for Purebred Arabians\, Arabian Derivatives and Arabian Performance Index Horses \nYouth & Beginner section\nWorking Hunter Classes\nHarness Classes \n2nd event in our 2021 Silver Crown Series \nEntry via Nominate
URL:https://www.ahaq.asn.au/event/2021-autumn-classic/
LOCATION:Laidley Show Grounds\, Hayes Street\, Laidley\, Queensland\, 4341\, Australia
CATEGORIES:AHAQ,Arabian Horse Show AHAQ
ATTACH;FMTTYPE=image/jpeg:https://www.ahaq.asn.au/wp-content/uploads/2021/01/banner-2021.jpg
ORGANIZER;CN="AHAQ%20Inc":MAILTO:secretary@ahaq.asn.au
END:VEVENT
END:VCALENDAR